BEGIN:VCALENDAR
VERSION:2.0
PRODID:-//Eventin//Event Calendar//EN
CALSCALE:GREGORIAN
METHOD:PUBLISH
BEGIN:VEVENT
UID:10323a34579de8e09b6ef749c7ffbc6c@cemarin.org
SUMMARY:CLAMA – XIII Congreso Latinamericano de Malacología
DESCRIPTION:DIVERSIDAD – SOSTENIBILIDAD – RESILIENCIA\nNos vemos del 17
  al 21 de Agosto de 2026 en Cartagena\, Colombia.\nPre-inscripciones en:htt
 ps://asocoma.co/
LOCATION:Universidad de Cartagena
DTSTAMP:20260423T143935Z
DTSTART:20260817T130000Z
DTEND:20260821T230000Z
END:VEVENT
END:VCALENDAR
