BEGIN:VCALENDAR
VERSION:2.0
PRODID:-//Eventin//Event Calendar//EN
CALSCALE:GREGORIAN
METHOD:PUBLISH
BEGIN:VEVENT
UID:23d2f52cc66ed80e3e8406eaaf75b62d@cemarin.org
SUMMARY:CORALTHECA - El legado de Elvira a los Arrecifes del Caribe Colombi
 ano.
DESCRIPTION:CoralTheca: Un Legado de Elvira a los Corales del Caribe Colomb
 iano\, es un corto documental que busca sensibilizar al público sobre la u
 rgencia de la lucha por restaurar los arrecifes de coral en Colombia de la 
 mano de la historia de Elvira Alvarado a quien cariñosamente la llamamos L
 a mamá de los corales\, quien ha dedicado su vida a estudiar estos organis
 mos y al ecosistema que conforman.\n\n\n\nLos arrecifes de coral del Caribe
  siguen enfrentando amenazas significativas\, incluyendo el cambio climáti
 co\, la sobrepesca\, la contaminación y el desarrollo costero. Estos facto
 res de estrés han llevado a eventos de blanqueamiento en corales y otros o
 rganismos\, brotes de enfermedades y degradación del hábitat.\n\n\n\nEste
  documental tiene un “call to action” concreto\, el cual busca moviliza
 r a su audiencia hacia la unión de esfuerzos para la creacion de un centro
  de rescate y cria de larvas en el Parque Natural Nacional (PNN) de las Isl
 as del Rosario\, llamado Coraltheca. Con este centro se busca mantener colo
 nias aisladas de enfermedades\, cambios de temperatura\, entre otras\; y as
 í poder reproducir especies claves que ayuden a mantener la diversidad gen
 ética y de especies en el arrecife de coral del caribe colombiano.\n\n\n\n
 Al final de la proyección\, tendremos un conversatorio con Elvira Alvarado
  y otras voces que nos ayudarán a comprender la actual situación de los c
 orales en el Caribe colombiano.  \n\n\n\nRegistra GRATIS tu asistencia aqu
 í\n\n\n\n[contact-form-7 id="4779da8" title="Documental Elvira"]
LOCATION:Aula máxima\, Universidad Jorge Tadeo Lozano\, Bogotá.
DTSTAMP:20260423T141855Z
DTSTART:20260504T223000Z
DTEND:20260505T003000Z
END:VEVENT
END:VCALENDAR
